BEGIN:VCALENDAR
PRODID:Nexudus
VERSION:2.0
BEGIN:VTIMEZONE
TZID:Africa/Cairo
X-LIC-LOCATION:Africa/Cairo
BEGIN:STANDARD
DTSTART:20241101T000000
RRULE:FREQ=YEARLY;BYDAY=-1TH;BYMONTH=10
TZNAME:EET
TZOFFSETFROM:+0300
TZOFFSETTO:+0200
END:STANDARD
BEGIN:DAYLIGHT
DTSTART:20250425T000000
RRULE:FREQ=YEARLY;BYDAY=-1FR;BYMONTH=4
TZNAME:EEST
TZOFFSETFROM:+0200
TZOFFSETTO:+0300
END:DAYLIGHT
END:VTIMEZONE
BEGIN:VEVENT
DESCRIPTION:Are you a First-Time-Manager\, expecting to become one\, or asp
 iring to be a Team Leader\; and want to learn how to handle this critical 
 role in terms of effective communication with your team?\n\n"𝗜𝗳 
 𝘆𝗼𝘂 𝗰𝗮𝗻'𝘁 𝗰𝗼𝗺𝗺�
 �𝗻𝗶𝗰𝗮𝘁𝗲 𝗲𝗳𝗳𝗲𝗰�
 �𝗶𝘃𝗲𝗹𝘆 𝘄𝗶𝘁𝗵 𝘆𝗼�
 �𝗿 𝗲𝗺𝗽𝗹𝗼𝘆𝗲𝗲𝘀\, 𝘆
 𝗼𝘂 𝗰𝗮𝗻 𝘀𝗮𝘆 𝗴𝗼𝗼�
 �𝗯𝘆𝗲 𝘁𝗼 𝗲𝗻𝗴𝗮𝗴𝗲�
 �𝗲𝗻𝘁\, 𝗽𝗿𝗼𝗱𝘂𝗰𝘁𝗶
 𝘃𝗶𝘁𝘆 & 𝗿𝗲𝘁𝗲𝗻𝘁𝗶�
 �𝗻" - 𝗦𝘂𝗷𝗮𝗻 𝗣𝗮𝘁𝗲𝗹
 \n\n- Do you find it hard to have a critical conversation with your employ
 ee when they've ​under-performed?\n\n- Do you want to maintain balance b
 etween efficiency & productivity\, and creating a friendly environment for
  your team?\n\n- Do you have an employee who's most of the time reluctant 
 towards delivering the tasks you ask them for?\n\n𝗖𝗼𝗺𝗽
 𝗮𝗻𝗶𝗲𝘀 𝘄𝗶𝘁𝗵 𝗹𝗲𝗮
 𝗱𝗲𝗿𝘀 𝘄𝗵𝗼 𝗮𝗿𝗲 𝗴�
 �𝗲𝗮𝘁 𝗰𝗼𝗺𝗺𝘂𝗻𝗶𝗰�
 �𝘁𝗼𝗿𝘀 𝗵𝗮𝘃𝗲 𝗻𝗲𝗮�
 �𝗹𝘆 𝟱𝟬% 𝗵𝗶𝗴𝗵𝗲𝗿 𝗿
 𝗲𝘁𝘂𝗿𝗻𝘀 𝘁𝗵𝗮𝗻 𝗰𝗼
 𝗺𝗽𝗮𝗻𝗶𝗲𝘀 𝘄𝗶𝘁𝗵 𝗮
 𝘃𝗲𝗿𝗮𝗴𝗲 𝗰𝗼𝗺𝗺𝘂𝗻
 𝗶𝗰𝗮𝘁𝗼𝗿𝘀 𝗶𝗻 𝗹𝗲𝗮
 𝗱𝗲𝗿𝘀𝗵𝗶𝗽 𝗽𝗼𝘀𝗶𝘁
 𝗶𝗼𝗻𝘀.\nEvent link: https://newcairo.spaces.nexudus.com
 /en/events/view/1177725573/communicate-to-lead--round-3\n
DTEND;TZID=Africa/Cairo:20191130T170000
DTSTAMP:20260424T111958Z
DTSTART;TZID=Africa/Cairo:20191130T094500
LOCATION:AlMaqarr New Cairo 
SEQUENCE:0
SUMMARY:Communicate to Lead: Round 3
UID:e26b4b36-2627-4a34-8dc2-b65737cdfa3c
END:VEVENT
END:VCALENDAR
